BEGIN:VCALENDAR
VERSION:2.0
PRODID:-//3 rzeki - ECPv4.6.26.1//NONSGML v1.0//EN
CALSCALE:GREGORIAN
METHOD:PUBLISH
X-WR-CALNAME:3 rzeki
X-ORIGINAL-URL:http://www.3rzeki.pl
X-WR-CALDESC:Events for 3 rzeki
BEGIN:VEVENT
DTSTART;TZID=Europe/Warsaw:20240922T170000
DTEND;TZID=Europe/Warsaw:20240922T183000
DTSTAMP:20260422T111851
CREATED:20240918T123327Z
LAST-MODIFIED:20240918T123327Z
UID:11579-1727024400-1727029800@www.3rzeki.pl
SUMMARY:Przemiany - teatr Hurragram
DESCRIPTION:W ramach Przeglądu Teatrów Amatorskich TeatrON zapraszamy na premierę sztuki Teatru Hurragram Nowodworskiego Ośrodka Kultury w reżyserii Marcina Turka pt. „Przemiany”. \n22.09.2024 r.\, godz. 17:00\nNowodworski Ośrodek Kultury\nul. I. Paderewskiego 1A \nKUP BILET \nSztuka „Przemiany” w podtytule nosi tytuł „kobieca antykomedia” i jest oparta na dramacie Janusza Tartyłły „Dzień – na dziś i jutro”. Zabawna\, refleksyjna i nostalgiczna opowieść o Magazynierkach\, z których żadna idąc rano do pracy nie sądziła jak niezwykle zakończy się ten dzień. Do tej pory nie wiedziały o sobie prawie nic. Do tej pory nie dzieliły się swoją przeszłością\, ani tym co się dzieje gdzieś głęboko\, zapomniane w głębi duszy. Tylko co sprawiło\, że właśnie teraz coś się w nich zmienia? \nObsada:\nCiepiela – Marzena Wandachowicz /Agnieszka Chowaniec\nTraszka – Grażyna Rostkowska\nWorszaj – Agnieszka Magier\nKlocura – Agnieszka Bielecka\nStepla – Katarzyna Kowalczyk\nMirka – Katarzyna Rogulska – Ciura/ Alicja Przytulska \nKarty wstępu w cenie 10 zł do nabycia w kasie NOK (ul. Paderewskiego 1A) przez biletyna.pl i w biletomacie w Kasynie Oficerskim (ul. Ledóchowskiego 160 – płatność wyłącznie kartą). \n  \n__________________________________________ \nJuż we wrześniu rusza TeatrON – pierwszy nowodworski przegląd teatrów amatorskich organizowany przez Nowodworski Ośrodek Kultury.\nPodczas wydarzenia\, które potrwa przez cały sezon artystyczny 2024/25\, widzowie będą mogli zobaczyć spektakle teatrów amatorskich z całego kraju\, które cieszą się największym zainteresowaniem i uznaniem widowni oraz krytyków.\nPrzegląd otworzy 22 września spektakl „Przemiany” w reżyserii Marcina Turka\, oparty na dramacie Janusza Tartyłły „Dzień na dziś i na jutro”. Kolejnym spektaklem\, który zobaczymy 3 października\, będzie „Międzyczas” w wykonaniu aktorów Teatru Witkacego z Zakopanego\, będącym połączeniem poezji śpiewanej i tekstów satyrycznych Jonasza Kofty.\nKolejne tytuły podamy wkrótce. Już dzisiaj możemy jednak zapewnić\, że amatorzy teatru będą zachwyceni. \n
URL:http://www.3rzeki.pl/kalendarz/przemiany-teatr-hurragram/
LOCATION:Nowodworski Ośrodek Kultury\, Paderewskiego 1 A\, Nowy Dwór Mazowiecki\, mazowieckie\, 05-100\, Polska
CATEGORIES:teatr
ATTACH;FMTTYPE=image/jpeg:http://www.3rzeki.pl/wp-content/uploads/2024/09/przemiany-plakat-maly-700x990-1.jpg
END:VEVENT
END:VCALENDAR