BEGIN:VCALENDAR
VERSION:2.0
PRODID:-//3 rzeki - ECPv4.6.26.1//NONSGML v1.0//EN
CALSCALE:GREGORIAN
METHOD:PUBLISH
X-WR-CALNAME:3 rzeki
X-ORIGINAL-URL:http://www.3rzeki.pl
X-WR-CALDESC:Events for 3 rzeki
BEGIN:VEVENT
DTSTART;TZID=Europe/Warsaw:20240713T110000
DTEND;TZID=Europe/Warsaw:20240713T160000
DTSTAMP:20260422T092453
CREATED:20240709T095036Z
LAST-MODIFIED:20240709T095036Z
UID:11371-1720868400-1720886400@www.3rzeki.pl
SUMMARY:Przejażdżka elektrycznym busem po Twierdzy Modlin
DESCRIPTION:Przejażdżka elektrycznym busem! Trasa prowadzi przez fascynujące i na co dzień niedostępne zakamarki Twierdzy!\nZapraszamy na przejażdżkę z historią już:13 lipca (sobota)\, godz. 11:00 – 16:0014 lipca (niedziela)\, godz. 11:00 – 16:00(Bus rusza od 11:00 (co godzinę) i zabiera 12 osób). To Ty wybierasz godzinę\, na którą przyjedziesz.\nCo najmniej 15 minut przed rozpoczęciem przejazdu\, spotykamy się pod Muzeum Twierdzy Modlin\, w celu zeskanowania biletów. Nasze punkty turystyczne są otwarte od 10:00.\nJeśli poczujecie niedosyt\, zapraszamy do naszych punktów turystycznych – W CENIE BILETU!– Tarasy Widokowe – Wieża Czerwona\,– Muzuem Twierdzy Modlin\n–>W razie pytań\, prosimy o kontakt pod numer:+48 888 424 888 \n\n\n  \n
URL:http://www.3rzeki.pl/kalendarz/przejazdzka-elektrycznym-busem-po-twierdzy-modlin/
LOCATION:Centrum Edukacji Historycznej Prochownia 197\, Bema 200 C\, Nowy Dwór Mazowiecki\, mazowieckie\, 05-160\, Polska
ATTACH;FMTTYPE=image/jpeg:http://www.3rzeki.pl/wp-content/uploads/2024/07/450185813_1055678666204700_5564916573979563693_n.jpg
END:VEVENT
END:VCALENDAR