BEGIN:VCALENDAR
VERSION:2.0
PRODID:-//3 rzeki - ECPv4.6.26.1//NONSGML v1.0//EN
CALSCALE:GREGORIAN
METHOD:PUBLISH
X-WR-CALNAME:3 rzeki
X-ORIGINAL-URL:http://www.3rzeki.pl
X-WR-CALDESC:Events for 3 rzeki
BEGIN:VEVENT
DTSTART;TZID=Europe/Warsaw:20251101T180000
DTEND;TZID=Europe/Warsaw:20251101T213000
DTSTAMP:20260422T092100
CREATED:20250923T130145Z
LAST-MODIFIED:20250923T130145Z
UID:12724-1762020000-1762032600@www.3rzeki.pl
SUMMARY:Mroczne Historie Twierdzy Modlin 2025
DESCRIPTION:Mroczne Zwiedzanie Twierdzy Modlin\nZmrok zapada nad murami Twierdzy\, a bramy otwierają się tylko dla najodważniejszych.Już 31 października\, 1 i 2 listopada o godzinie 18:00 wyruszamy w 3-godzinny patrol po zakamarkach fortecy.\nPod osłoną nocy przewodnik opowie Wam o losach żołnierzy\, których duchy wciąż zdają się czuwać nad Modlinem. Będziecie maszerować przez korytarze\, które po zmroku nabierają zupełnie innego charakteru i usłyszycie historie\, od których ciarki przechodzą po plecach.\n Terminy: 31.10\, 1.11\, 2.11 Godzina startu: 18:00 Czas trwania: ok. 3h Twierdza Modlin\, ul. Gen. Józefa Bema 200C\, Nowy Dwór Mazowiecki\n Liczba miejsc ograniczona – rezerwacja online: https://twierdzamodlin.bookero.pl/?use_service_id=81439\nCzy jesteś gotów na nocny meldunek w najdłuższym budynku Europy\n  \n
URL:http://www.3rzeki.pl/kalendarz/mroczne-historie-twierdzy-modlin-2025-2/
LOCATION:Centrum Edukacji Historycznej Prochownia 197\, Bema 200 C\, Nowy Dwór Mazowiecki\, mazowieckie\, 05-160\, Polska
CATEGORIES:wycieczka piesza
ATTACH;FMTTYPE=image/jpeg:http://www.3rzeki.pl/wp-content/uploads/2025/09/550463413_1410470517392178_5003035917480907220_n.jpg
END:VEVENT
END:VCALENDAR