BEGIN:VCALENDAR
VERSION:2.0
PRODID:-//3 rzeki - ECPv4.6.26.1//NONSGML v1.0//EN
CALSCALE:GREGORIAN
METHOD:PUBLISH
X-WR-CALNAME:3 rzeki
X-ORIGINAL-URL:http://www.3rzeki.pl
X-WR-CALDESC:Events for 3 rzeki
BEGIN:VEVENT
DTSTART;TZID=Europe/Warsaw:20260425T100000
DTEND;TZID=Europe/Warsaw:20260425T133000
DTSTAMP:20260422T105005
CREATED:20260414T080014Z
LAST-MODIFIED:20260414T080014Z
UID:13503-1777111200-1777123800@www.3rzeki.pl
SUMMARY:Fort III - zwiedzanie z przewodnikiem
DESCRIPTION:Ruszamy z zapisami na pierwsze w tym roku zwiedzanie Fortu III z Przewodnikiem. Fort to miejsce pamięci narodowej\, perła architektury militarnej XIX w.\, największy i najlepiej zachowany fort Twierdzy Modlin\, miejsce zaciekłych walk we wrześniu 1939 r.\, obóz przesiedleńczy dla Polaków i polskich Żydów w 1941 r.\, ciężkie więzienie gestapo w latach 1943-1945. Miejsce gdzie znajduje się cmentarz wojenny\, na którym spoczywają szczątki więźniów\, ekshumowane w latach 2018-2020. Zapraszamy do przejścia podziemnymi korytarzami\, gdzie widnieją do dziś napisy wyryte przez więźniów\, żołnierzy różnych formacji polskiego państwa podziemnego.\nWstęp jest bezpłatny\, ale dla komfortu uczestników wymagane jest zapisanie się. Link do zapisów znajduje się poniżej. Zasady zwiedzania i przydatne informacje znajdują się w formularzu rejestracyjnym. Informacje o Forcie można znaleźć na www.forttrzecipomiechowek.org\nZwiedzanie jest sfinansowane ze środków Ministerstwa Obrony Narodowej w ramach projektu: „Edukacja historyczna i opieka nad miejscem pamięci Fort III Pomiechówek”.\n Zapisy na zwiedzanie: godz. 10:00-> https://forms.gle/5fpNeXSTAnHEK6Dq9\n
URL:http://www.3rzeki.pl/kalendarz/fort-iii-zwiedzanie-z-przewodnikiem/
LOCATION:fort III\, DK62 29\, Pomiechówek\, mazowieckie\, 05_180\, Polska
ATTACH;FMTTYPE=image/jpeg:http://www.3rzeki.pl/wp-content/uploads/2026/04/668517685_1249730787244320_5514541095776184489_n.jpg
END:VEVENT
BEGIN:VEVENT
DTSTART;TZID=Europe/Warsaw:20260426T100000
DTEND;TZID=Europe/Warsaw:20260426T150000
DTSTAMP:20260422T105005
CREATED:20260418T091752Z
LAST-MODIFIED:20260418T091752Z
UID:13533-1777197600-1777215600@www.3rzeki.pl
SUMMARY:Dzień Ziemi w Ośrodku Dydaktyczno-Muzealnym w Granicy!!!
DESCRIPTION:Dzień Ziemi w Ośrodku Dydaktyczno-Muzealnym w Granicy!!!\nZapraszamy do Ośrodka Dydaktyczno-Muzealnego KPN w Granicy na wydarzenie organizowane w ramach programu edukacyjnego „PRZYRODA NA HORYZONCIE” \nTo otwarte wydarzenie edukacyjno-przyrodnicze\, które łączy wiedzę o zmianach klimatu z praktycznym działaniem w terenie – od inspirujących prelekcji i spaceru po Puszczy Kampinoskiej\, po wspólne sadzenie roślin i działania ekologiczne \nTo świetna okazja dla osób w każdym wieku\, by z bliska poznać funkcjonowanie lasu\, rolę rodzimych roślin oraz sposoby\, w jakie przyroda reaguje i regeneruje się w zmieniającym się klimacie.\nProgram wydarzenia:\nW programie:prelekcja ekologicznaprelekcja o roślinach KPNgra „W węgiel”wspólne sadzenie (dla chętnych) bezpłatne sadzonki rodzimych bylin z naszej szkółkidziałania ekologiczne na terenie ODMspacer po Puszczy w poszukiwaniu „robali” zwiedzanie Muzeum Puszczy Kampinoskiej (dla chętnych)\n Program wydarzenia:\n10:00–12:00 | Prelekcje edukacyjne\n „Jak zmienia się klimat i co to oznacza dla lasów”Poznaj podstawy zmian klimatycznych oraz to\, jak przyroda adaptuje się i regeneruje w nowej rzeczywistości.Prelekcja dr Katarzyny Stojak – biolożki\, redaktorki serwisu naukaoklimacie.pl\n „Sekrety dzikich krzewów – szakłak\, trzmielina\, bez”Opowieść dr Anny Otręby – ogrodniczki\, leśniczki\, kierowniczki gospodarstwa szkółkarskiego KPN w Julinku\n10:00–12:00 | Działania w terenie\n wspólne sadzenie krzewów wokół Muzeum Puszczy Kampinoskiej (dla chętnych) wspólne sprzątanie ścieżki dydaktycznej „Skrajem Puszczy” (dla chętnych) gra „W węgiel” (dla dzieci powyżej 10 r.ż.)\n12:00–15:00 | Wycieczka terenowa\n „Czy robale to robale?”Trasa: Granica – Torfianki w Nartach – GranicaDługość: ok. 5 kmProwadzący: edukator Mariusz Morkowski (KPN)\n Ważne!\nProsimy o ubiór adekwatny do charakteru wydarzenia – planowane są prace przy nasadzeniach oraz spacer terenowy. Przygotujcie się na kontakt z naturą Przypominamy także o obowiązujących zasadach na terenie Parku – dbajmy wspólnie o przyrodę \nDo zobaczenia w Granicy!\n\nze strony: facebook.com/events/1263406675926592/?acontext=%7B”event_action_history”%3A[%7B”surface”%3A”search”%7D%2C%7B”mechanism”%3A”surface”%2C”surface”%3A”groups_highlight_units”%7D]%2C”ref_notif_type”%3Anull%7D\n
URL:http://www.3rzeki.pl/kalendarz/dzien-ziemi-w-osrodku-dydaktyczno-muzealnym-w-granicy/
LOCATION:Granica\, Granica\, mazowieckie\, 05-085\, Polska
ATTACH;FMTTYPE=image/jpeg:http://www.3rzeki.pl/wp-content/uploads/2026/04/673866260_1399113032257408_2941401323715223586_n.jpg
END:VEVENT
BEGIN:VEVENT
DTSTART;TZID=Europe/Warsaw:20260426T180000
DTEND;TZID=Europe/Warsaw:20260426T193000
DTSTAMP:20260422T105005
CREATED:20260414T081308Z
LAST-MODIFIED:20260418T084610Z
UID:13509-1777226400-1777231800@www.3rzeki.pl
SUMMARY:Uderz w stół\, a rodzina się odezwie – komedia Teatru Muzycznego Pod Pretekstem
DESCRIPTION:Uderz w stół\, a rodzina się odezwie – komedia Teatru Muzycznego Pod Pretekstem\nZapraszamy na ponowne spotkanie z rodziną Cegielskich. Odświeżona wersja spektaklu Pretekstów\, który miał premierę w październiku 2021 roku\, po raz kolejny rozbawi wieliszewską publiczność. Już kwietniowy weekend (sobota 18 kwietnia godz. 18.30 oraz niedziela 19 kwietnia godz. 18)) dowiemy się\, czy z rodziną faktycznie najlepiej wychodzi się na zdjęciach\, czyli jaki wpływ na familijne relacje może mieć sprzedaż rodzinnego domu… Wszystko to przy wtórze rodzimych przebojów końcówki XX wieku!\n\nBilety (45 zł) w kasie GCK w Łajskach oraz online (47\,50 zł) KUP BILET\n\nMusicalowe odwiedziny w domu rodzinnym Cegielskich to powrót do Polski lat 90. i jej szaro-szalonej rzeczywistości. Cegielscy spotykają się w niełatwym momencie: niedługo po śmierci małżonki głowa rodziny\, emerytowany wojskowy Marian\, podejmuje decyzję o sprzedaży domu. A odchowani synowie już kombinują\, jak urobić tatusia i uszczknąć dla siebie jak najwięcej z tej transakcji. Kto znajdzie lepszego kupca? Czy najmłodszej z rodzeństwa Ewie uda się powstrzymać braci przed bezdusznym skokiem na kasę? Jak zareagują\, gdy przyjeżdżająca z dalekiej Francji siostra przedstawi narzeczonego Thomasa?\nReżyseria: Karina Warnel-Żakowska\nScenariusz: Natalia Bazela i Daria Czerwińska\nPrzygotowanie muzyczne: Magda Redo\nChoreografia: Karina Warnel-Żakowska\nSpektakl miał premierę w październiku 2021 roku. W kwietniu 2026 roku powstała odświeżona wersja w obsadzie:\nDominika Bisialska\, Paulina Gadziała\, Aleksander Gniadek\, Adrian Haraburda\, Marcin Jarosz\, Julia Kowalik\, Agnieszka Kruczek\, Aleksandra Krysiak\, Michał Łobejko\, Andrzej Pawlik\, Magda Redo\, Krzysztof Suchecki\, Dawid Szmigiel\, Karina Warnel-Żakowska. \nTeatr Muzyczny Pod Pretekstem to grupa przyjaciół\, działająca od 2015 roku pod pretekstem tworzenia sztuki.\n\n
URL:http://www.3rzeki.pl/kalendarz/13509/
LOCATION:sala koncertowa im Krzysztofa Klenczona\, Modlińska 1\, Wieliszew\, mazowieckie\, 05-135\, Polska
CATEGORIES:teatr
ATTACH;FMTTYPE=image/jpeg:http://www.3rzeki.pl/wp-content/uploads/2026/04/uderz-w-stol-26-1080x1350-4x5-1.jpg
END:VEVENT
BEGIN:VEVENT
DTSTART;TZID=Europe/Warsaw:20260427T180000
DTEND;TZID=Europe/Warsaw:20260427T193000
DTSTAMP:20260422T105005
CREATED:20260418T085108Z
LAST-MODIFIED:20260418T085108Z
UID:13529-1777312800-1777318200@www.3rzeki.pl
SUMMARY:Bliżej Kultury – spotkanie z Katarzyną Figurą
DESCRIPTION:Bliżej Kultury – spotkanie z Katarzyną Figurą\n27.04.2026 r.\, godz. 18:00 \nNowodworski Ośrodek Kultury zaprasza na kolejne spotkanie z cyklu Bliżej Kultury. Tym razem gościem wydarzenia będzie Katarzyna Figura – jedna z najbardziej rozpoznawalnych i charyzmatycznych aktorek polskiego kina\, teatru i telewizji. Spotkanie odbędzie się 27 kwietnia o godz. 18:00 w Nowodworskim Ośrodku Kultury przy ul. Paderewskiego 1A. Rozmowę poprowadzi Weronika Goworowska-Oleś.\nKatarzyna Figura to artystka o niezwykle bogatym dorobku – wystąpiła w ponad 70 filmach fabularnych oraz ponad 20 serialach\, a jej kreacje na stałe zapisały się w historii polskiej kinematografii. Publiczność pokochała ją m.in. za role w takich filmach jak „Pociąg do Hollywood”\, „Kingsajz”\, „Kiler”\, „Kiler-ów 2-óch”\, „Ajlawju”\, „Żurek”\, „Historie miłosne” czy „Szczęśliwego Nowego Jorku”. \nAktorka jest dwukrotną laureatką Złotych Lwów na Festiwalu Polskich Filmów Fabularnych\, dwukrotną laureatką Złotych Kaczek oraz zdobywczynią Polskiej Nagrody Filmowej „Orzeł”. Jej niezwykła osobowość sceniczna\, talent i charyzma sprawiły\, że od lat pozostaje jedną z najważniejszych postaci polskiej kultury. Katarzyna Figura pracowała również przy produkcjach międzynarodowych – występowała w filmach reżyserów francuskich\, włoskich\, niemieckich\, czeskich\, węgierskich oraz amerykańskich\, stając się ambasadorką polskiej sztuki na świecie.\nPodczas spotkania w ramach cyklu Bliżej Kultury porozmawiamy o drodze artystycznej aktorki\, kulisach pracy w filmie i teatrze\, najważniejszych rolach oraz o tym\, jak wygląda życie gwiazdy\, którą kolejne pokolenia widzów niezmiennie podziwiają i kochają. \nSerdecznie zapraszamy na wieczór pełen inspirujących opowieści\, wspomnień i spotkanie z jedną z największych ikon polskiego kina. \nWydarzenie z ramach cyklu „NOK budzi kulturę – wiosna 2026”. \nPartnerem wydarzenia jest Samorząd Województwa Mazowieckiego. \n  \nAutorem zdjęcia wykorzystanego w plakacie jest Łukasz Ziętek. \n
URL:http://www.3rzeki.pl/kalendarz/blizej-kultury-spotkanie-z-katarzyna-figura/
LOCATION:Nowodworski Ośrodek Kultury\, Paderewskiego 1 A\, Nowy Dwór Mazowiecki\, mazowieckie\, 05-100\, Polska
CATEGORIES:spotkanie
ATTACH;FMTTYPE=image/jpeg:http://www.3rzeki.pl/wp-content/uploads/2026/04/Blizej-kultury-8-700x990-1.jpg
END:VEVENT
BEGIN:VEVENT
DTSTART;TZID=Europe/Warsaw:20260517T090000
DTEND;TZID=Europe/Warsaw:20260517T170000
DTSTAMP:20260422T105005
CREATED:20260325T094818Z
LAST-MODIFIED:20260325T094818Z
UID:13406-1779008400-1779037200@www.3rzeki.pl
SUMMARY:9. Półmaraton Zegrzyński
DESCRIPTION:\n9. Półmaraton Zegrzyński – ZAPISY RUSZYŁY!\n​Gotowi na najpiękniejszą trasę na Mazowszu? Widzimy się na starcie! \n\n\n​ Gdzie: Plaża w Serocku\n Kiedy: 17 maja 2026\, godz. 9:00\n Trasa: Serock – Nieporęt – Zegrze – Wieliszew\n​Nie czekaj\, aż zabraknie miejsc! Podejmij wyzwanie i poczuj tę energię. \n\n\n​ ZAPISZ SIĘ TUTAJ:\n lumisport.eu \nze strony https://www.facebook.com/GminaWieliszew/?locale=pl_PL\n\n
URL:http://www.3rzeki.pl/kalendarz/9-polmaraton-zegrzynski/
LOCATION:plaża w Serocku\, mazowieckie
ATTACH;FMTTYPE=image/jpeg:http://www.3rzeki.pl/wp-content/uploads/2026/03/maraton.jpg
END:VEVENT
BEGIN:VEVENT
DTSTART;TZID=Europe/Warsaw:20260522T200000
DTEND;TZID=Europe/Warsaw:20260522T230000
DTSTAMP:20260422T105005
CREATED:20260310T112332Z
LAST-MODIFIED:20260314T094250Z
UID:13281-1779480000-1779490800@www.3rzeki.pl
SUMMARY:Biegiem do Koszar 2026
DESCRIPTION:\nRUSZYŁY ZAPISY!\n\n\nChcesz przebiec 5 km nocą przez historyczne Koszary Obronne Twierdzy Modlin?\n\n\n22 maja 2026 r. wraca wyjątkowy bieg „Biegiem do koszar!” – trasa prowadzi przez wnętrza i dziedziniec jednego z najdłuższych budynków obronnych w Europie.\n\n\n 22.05.2026\n Start: 20:00\n Twierdza Modlin\n Dystans: 5 km\n\n\n Liczba miejsc jest ograniczona – o udziale decyduje kolejność zapisów.\n\n\n Zapisz się tutaj:\nhttps://b4sportonline.pl/…/zapisy_na_biegiem_do_koszar…\n\n\n Oznacz znajomego\, z którym pobiegniesz!\n\n\n#BiegiemDoKoszar #TwierdzaModlin #BiegNocny #Bieg5km #NowyDwórMazowiecki\n\n\nZe strony: https://www.facebook.com/twierdzamodlinofficial\n
URL:http://www.3rzeki.pl/kalendarz/biegiem-do-koszar-2026/
LOCATION:Twierdza Modlin\, Bema 200C\, Nowy Dwór Mazowiecki\, mazowieckie\, 05-160\, Polska
CATEGORIES:bieg
ATTACH;FMTTYPE=image/jpeg:http://www.3rzeki.pl/wp-content/uploads/2026/03/648267413_1555061009599794_2691758680067859848_n.jpg
END:VEVENT
BEGIN:VEVENT
DTSTART;TZID=Europe/Warsaw:20260523T180000
DTEND;TZID=Europe/Warsaw:20260523T200000
DTSTAMP:20260422T105005
CREATED:20260226T092852Z
LAST-MODIFIED:20260226T092947Z
UID:13179-1779559200-1779566400@www.3rzeki.pl
SUMMARY:Dzień Matki w Kasynie Oficerskim: Mateusz Ziółko SOLO
DESCRIPTION:Zapraszamy na niezwykły koncert z okazji Dnia Matki! W Kasynie Oficerskim wystąpi Mateusz Ziółko – solo\, nastrojowo\, przy fortepianie… \n23.05.2026r.\, godz. 18:00\nKasyno Oficerskie w Twierdzy Modlin\nul. Ledóchowskiego 160\, Nowy Dwór Mazowiecki \nKup bilet \nMateusz Ziółko to artysta znany z głębokiej emocjonalności i niezwykłej muzykalności. Zwycięzca 3. edycji „The Voice of Poland” oraz 10. edycji „Twoja Twarz Brzmi Znajomo” \, który od lat zachwyca publiczność swoimi interpretacjami i autorskimi utworami. Jego debiutancki album „Na nowo” osiągnął status złotej płyty już w dniu premiery\, a kolejne single\, takie jak „W płomieniach” czy „Vis-à-vis”\, zdobyły serca słuchaczy i miliony wyświetleń w serwisach streamingowych. \nPodczas tego kameralnego koncertu Mateusz Ziółko zaprezentuje swoje największe przeboje oraz nowe kompozycje w intymnych\, fortepianowych aranżacjach. To niepowtarzalna okazja\, by usłyszeć jego muzykę w najczystszej formie – tylko głos i fortepian\, bez zbędnych dodatków. \nBilety w cenie 100 zł do nabycia również:\n– w kasie NOK (tu również ze zniżkami)\,\n– w biletomacie w Kasynie Oficerskim (płatność tylko kartą). \n
URL:http://www.3rzeki.pl/kalendarz/dzien-matki-w-kasynie-oficerskim-mateusz-ziolko-solo/
LOCATION:mazowieckie
ATTACH;FMTTYPE=image/jpeg:http://www.3rzeki.pl/wp-content/uploads/2026/02/Mateusz-Ziolko-SOLO-700x990-1.jpg
END:VEVENT
BEGIN:VEVENT
DTSTART;TZID=Europe/Warsaw:20260523T180000
DTEND;TZID=Europe/Warsaw:20260523T200000
DTSTAMP:20260422T105005
CREATED:20260418T094936Z
LAST-MODIFIED:20260418T094936Z
UID:13536-1779559200-1779566400@www.3rzeki.pl
SUMMARY:Mała Caryna i Gabi Gunia – koncert w Sali Klenczona
DESCRIPTION:Mała Caryna i Gabi Gunia – koncert w Sali Klenczona\nMiłośników muzyki folkowej\, piosenki turystycznej\, poezji śpiewanej / piosenki z tekstem\, zapraszamy do Wieliszewa w sobotę 23 maja o godz. 18. W programie „pieśni ludzi drogi”\, piosenki autorskie Łukasza Nowaka i Gabi Guni\, tłumaczenia zagranicznych piosenek folkowych oraz aranżacje najpiękniejszych\, starannie wyselekcjonowanych utworów muzycznych. Niezwykły kontakt z publicznością oraz umiejętności muzyków sprawiają\, że koncerty Małej Caryny na długo zapadają w pamięć\, o czym niejednokrotnie mogła przekonać się publiczność w Sali Klenczona.\n\nBilety (60 zł) w kasie GCK w Łajskach oraz online (63\,24 zl) KUP BILET\n\nŁukasz Nowak\nWokalista\, gitarzysta\, autor tekstów\, lektor filmowy\, animator kultury i konferansjer. Założyciel oraz lider zespołu Caryna. Twórca i współtwórca wielu programów muzycznych. \nAdam Marańda\nSkrzypek\, mandolinista i gitarzysta. Absolwent zespołu szkół muzycznych im. Stanisława Moniuszki w Łodzi. Członek Grupy Caryna oraz projektu folkowego Oreada. Często występuje z Łukasz Nowakiem jako duet „Mała Caryna” \nGabi Gunia\nArtystka o głębokim\, hipnotyzującym głosie. Zwraca uwagę swoją wyrazistością sceniczną\, uśmiechem i oryginalnością. Oprócz gitary akustycznej I ukulele grywa także na wiolonczeli. Autorka muzyki do tekstów między innymi: Aleksandy Bacińskiej i Łukasza Nowaka.\n\n
URL:http://www.3rzeki.pl/kalendarz/mala-caryna-i-gabi-gunia-koncert-w-sali-klenczona/
LOCATION:sala koncertowa im Krzysztofa Klenczona\, Modlińska 1\, Wieliszew\, mazowieckie\, 05-135\, Polska
ATTACH;FMTTYPE=image/jpeg:http://www.3rzeki.pl/wp-content/uploads/2026/04/plakat.jpg
END:VEVENT
BEGIN:VEVENT
DTSTART;TZID=Europe/Warsaw:20260704T170000
DTEND;TZID=Europe/Warsaw:20260704T170000
DTSTAMP:20260422T105005
CREATED:20260225T115650Z
LAST-MODIFIED:20260225T122241Z
UID:13144-1783184400-1783184400@www.3rzeki.pl
SUMMARY:Rekonstrukcja historyczna "Napoleon na mazowszu"
DESCRIPTION:W tym roku przygotowujemy ponad 4-godzinny program\, w którym znajdą się m.in.: dioramy historyczne prezentujące życie codzienne żołnierzy\, rzemieślników i ludności z początku XIX wieku\,pokazy historyczne prowadzone przez grupy rekonstrukcyjne\, prezentacje umundurowania\, artylerii musztry i wyposażenia epoki napoleońskiej\, dynamiczne pokazy z udziałem kawalerii\, zwieńczeniem całego programu będzie rekonstrukcja bitwy napoleońskiej\, w której wezmą udział rekonstruktorzy z różnych stron Polski\, Na zakończenie specjalne widowisko.\nTeren wydarzenia jest urokliwy\, położony nad wodą\, a dojazd pozostaje bardzo wygodny  Dziękujemy Stowarzyszeniu Jeziora Dolnego “Karaś” za udostępnienie terenu \nZapraszamy serdecznie wszystkich mieszkańców gminy Czosnów\, miłośników historii\, rekonstruktorów i całe rodziny  wstęp na wydarzenie jest bezpłatny.\nRekonstruktorzy są proszeni o zgłaszanie grup na: slaviamasovia@gmail.com\nJezioro Dolne Kazuń Jeziorna Czosnów\nze strony: https://fb.me/e/8XoJpiV44\n\n
URL:http://www.3rzeki.pl/kalendarz/rekonstrukcja-historyczna-napoleon-na-mazowszu/
LOCATION:mazowieckie
ATTACH;FMTTYPE=image/jpeg:http://www.3rzeki.pl/wp-content/uploads/2026/02/qwertgh.jpg
END:VEVENT
BEGIN:VEVENT
DTSTART;TZID=Europe/Warsaw:20260922T183000
DTEND;TZID=Europe/Warsaw:20260922T203000
DTSTAMP:20260422T105005
CREATED:20260408T083437Z
LAST-MODIFIED:20260408T083437Z
UID:13464-1790101800-1790109000@www.3rzeki.pl
SUMMARY:Muzyczne Show: Od Wiednia do Rio de Janeiro
DESCRIPTION:Muzyczne Show: Od Wiednia do Rio de Janeiro\n  \nℹ️ W imieniu organizatorów informujemy\,\nże koncert Muzyczne Show Roku: od Wiednia do Rio de Janeiro zostaje przełożony. ℹ️\n👉 Nowy termin: 22.09.2026r.\n\n\nWszystkie zakupione bilety zachowują swoją ważność. \nJest również możliwość zwrotu.\nWięcej informacji można uzyskać w kasie Nowodworskiego Ośrodka Kultury pod numerem 22 732 08 76 wew. 29.\n\n11.04.2026 r.\, godz. 18:30 \n\nKoncert\, podczas którego zabrzmią najpiękniejsze i ponadczasowe filmowe melodie! Muzyczne Show: Od Wiednia do Rio de Janeiro.\n\n\n22 września  2026r.\, godz. 18:30\nKasyno Oficerskie w Twierdzy Modlin\nul. Ledóchowskiego 160\, Nowy Dwór Mazowiecki\n\n\n\nBilety: https://www.artystyczni.pl/event-details/nowy-dwor-mazowiecki-muzyczne-show-roku-od-wiednia-do-rio-de-janeiro\nlub pod nr tel. 728 460 810.\nBilety dostępne także:\n– w kasie Nowodworskiego Ośrodka Kultury w cenie promocyjnej 115 zł (obowiązują zniżki)\n– w serwisie biletyna.pl: https://biletyna.pl/event/view/id/633810;\n– w biletomacie w Kasynie Oficerskim (płatność tylko kartą płatniczą).\n\n\n\nNajpiękniejsza muzyczna podróż przez świat kultowych melodii oraz hitów ze srebrnego ekranu. Usłyszą Państwo m.in. Viva España • What a Wonderful World • Que sera\, sera • Lasciatemi cantare • Bésame mucho\, legendarne przeboje\, które od lat zachwycają publiczność na całym świecie.\nNa scenie wystąpią wyjątkowi artyści:\nMonika Biederman-Pers\, Piotr Karzełek\noraz Jakub Oczkowski/Marcin Korbut.\nTanecznej energii doda formacja Bling Stars!\n\n\nPrzeniesiemy na scenę atmosferę rozgrzanych słońcem plaż Rio de Janeiro pełną ciepła\, beztroski i zabawy.\nZabrzmią także utwory godne wiedeńskiej opery\, pięknie wykonane i poruszające najczulsze emocje.\nWszystko w niezwykłych aranżacjach\, wzbogaconych tańcem oraz oprawą wielkiego MUZYCZNEGO SHOW!\nTo będzie prawdziwa uczta dla zmysłów\, na której nie może Państwa zabraknąć.\n\n\nWięcej na stronie wydarzenia:\nhttps://fb.me/e/6jYYbwlwW\n\n
URL:http://www.3rzeki.pl/kalendarz/muzyczne-show-od-wiednia-do-rio-de-janeiro-2/
LOCATION:Kasyno Oficerskie\, ledóchowskiego 160\, Nowy Dwór Mazowiecki\, mazowieckie\, 05-160\, Polska
CATEGORIES:koncert
ATTACH;FMTTYPE=image/png:http://www.3rzeki.pl/wp-content/uploads/2026/03/Plakat-A2-7-700x990-1.png
END:VEVENT
END:VCALENDAR